Package: MIRit Version: 1.3.0 Command: /Library/Frameworks/R.framework/Resources/bin/R CMD build --keep-empty-dirs --no-resave-data MIRit StartedAt: 2025-01-31 17:22:12 -0500 (Fri, 31 Jan 2025) EndedAt: 2025-01-31 17:23:33 -0500 (Fri, 31 Jan 2025) EllapsedTime: 81.1 seconds RetCode: 0 Status: OK PackageFile: MIRit_1.3.0.tar.gz PackageFileSize: 2.695 MiB