Package: MBCB
Version: 1.61.0
Command: E:\biocbuild\bbs-3.21-bioc\R\bin\R.exe CMD INSTALL MBCB
StartedAt: 2025-02-19 15:20:23 -0500 (Wed, 19 Feb 2025)
EndedAt: 2025-02-19 15:20:33 -0500 (Wed, 19 Feb 2025)
EllapsedTime: 9.9 seconds
RetCode: 0
Status: OK