Package: MBCB Version: 1.61.0 Command: E:\biocbuild\bbs-3.21-bioc\R\bin\R.exe CMD check --no-multiarch --install=check:MBCB.install-out.txt --library=E:\biocbuild\bbs-3.21-bioc\R\library --no-vignettes --timings MBCB_1.61.0.tar.gz StartedAt: 2025-02-20 02:38:59 -0500 (Thu, 20 Feb 2025) EndedAt: 2025-02-20 02:39:34 -0500 (Thu, 20 Feb 2025) EllapsedTime: 34.7 seconds RetCode: 0 Status: OK CheckDir: MBCB.Rcheck Warnings: 0