Package: MBCB Version: 1.61.0 Command: chmod a+r MBCB -R && E:\biocbuild\bbs-3.21-bioc\R\bin\R.exe CMD build --keep-empty-dirs --no-resave-data MBCB StartedAt: 2025-02-19 19:43:44 -0500 (Wed, 19 Feb 2025) EndedAt: 2025-02-19 19:43:59 -0500 (Wed, 19 Feb 2025) EllapsedTime: 15.1 seconds RetCode: 0 Status: OK PackageFile: MBCB_1.61.0.tar.gz PackageFileSize: 318.2 <A href="http://en.wikipedia.org/wiki/KiB" target="_blank">KiB</A>