Package: MBCB
Version: 1.61.0
Command: rm -rf MBCB.buildbin-libdir && mkdir MBCB.buildbin-libdir && E:\biocbuild\bbs-3.21-bioc\R\bin\R.exe CMD INSTALL --build --library=MBCB.buildbin-libdir MBCB_1.61.0.tar.gz
StartedAt: 2025-02-20 08:06:51 -0500 (Thu, 20 Feb 2025)
EndedAt: 2025-02-20 08:06:57 -0500 (Thu, 20 Feb 2025)
EllapsedTime: 6.1 seconds
RetCode: 0
Status: OK
PackageFile: MBCB_1.61.0.zip
PackageFileSize: 382.3 <A href="http://en.wikipedia.org/wiki/KiB" target="_blank">KiB</A>