##############################################################################
##############################################################################
###
### Running command:
###
###   rm -rf MBCB.buildbin-libdir && mkdir MBCB.buildbin-libdir && E:\biocbuild\bbs-3.21-bioc\R\bin\R.exe CMD INSTALL --build --library=MBCB.buildbin-libdir MBCB_1.61.0.tar.gz
###
##############################################################################
##############################################################################


* installing *source* package 'MBCB' ...
** this is package 'MBCB' version '1.61.0'
** using staged installation
** R
** data
** inst
** byte-compile and prepare package for lazy loading
** help
*** installing help indices
** building package indices
** installing vignettes
** testing if installed package can be loaded from temporary location
** testing if installed package can be loaded from final location
** testing if installed package keeps a record of temporary installation path
* MD5 sums
packaged installation of 'MBCB' as MBCB_1.61.0.zip
* DONE (MBCB)