Package: MAST
Version: 1.33.0
Maintainer: Andrew McDavid
MaintainerEmail: Andrew_McDavid at urmc.rochester.edu
git_url: https://git.bioconductor.org/packages/MAST
git_branch: devel
git_last_commit: 35654e5
git_last_commit_date: 2024-10-29 10:14:50 -0500 (Tue, 29 Oct 2024)