Package: MAPFX
Version: 1.3.0
Maintainer: Hsiao-Chi Liao
MaintainerEmail: chelsea.acad at gmail.com
git_url: https://git.bioconductor.org/packages/MAPFX
git_branch: devel
git_last_commit: 0dd36ba
git_last_commit_date: 2024-10-29 11:30:52 -0500 (Tue, 29 Oct 2024)