Package: LACE
Version: 2.11.0
Maintainer: Davide Maspero
MaintainerEmail: d.maspero at campus.unimib.it
git_url: https://git.bioconductor.org/packages/LACE
git_branch: devel
git_last_commit: c6d296d
git_last_commit_date: 2024-10-29 10:47:03 -0500 (Tue, 29 Oct 2024)