Package: IsoformSwitchAnalyzeR
Version: 2.7.0
Command: chmod a+r IsoformSwitchAnalyzeR -R && E:\biocbuild\bbs-3.21-bioc\R\bin\R.exe CMD build --keep-empty-dirs --no-resave-data IsoformSwitchAnalyzeR
StartedAt: 2025-02-19 19:31:27 -0500 (Wed, 19 Feb 2025)
EndedAt: 2025-02-19 19:37:07 -0500 (Wed, 19 Feb 2025)
EllapsedTime: 340.1 seconds
RetCode: 0
Status: OK
PackageFile: IsoformSwitchAnalyzeR_2.7.0.tar.gz
PackageFileSize: 4.487 <A href="http://en.wikipedia.org/wiki/MiB" target="_blank">MiB</A>