Package: IsoformSwitchAnalyzeR
Version: 2.7.0
Command: rm -rf IsoformSwitchAnalyzeR.buildbin-libdir && mkdir IsoformSwitchAnalyzeR.buildbin-libdir && E:\biocbuild\bbs-3.21-bioc\R\bin\R.exe CMD INSTALL --build --library=IsoformSwitchAnalyzeR.buildbin-libdir IsoformSwitchAnalyzeR_2.7.0.tar.gz
StartedAt: 2025-02-20 08:02:19 -0500 (Thu, 20 Feb 2025)
EndedAt: 2025-02-20 08:11:47 -0500 (Thu, 20 Feb 2025)
EllapsedTime: 567.5 seconds
RetCode: 0
Status: OK
PackageFile: IsoformSwitchAnalyzeR_2.7.0.zip
PackageFileSize: 5.26 <A href="http://en.wikipedia.org/wiki/MiB" target="_blank">MiB</A>