Package: IsoformSwitchAnalyzeR
Version: 2.7.0
Command: /home/biocbuild/R/R/bin/R CMD INSTALL IsoformSwitchAnalyzeR
StartedAt: 2025-01-29 20:24:19 -0000 (Wed, 29 Jan 2025)
EndedAt: 2025-01-29 20:25:46 -0000 (Wed, 29 Jan 2025)
EllapsedTime: 87.7 seconds
RetCode: 0
Status: OK