Package: IsoformSwitchAnalyzeR
Version: 2.7.0
Command: /home/biocbuild/R/R/bin/R CMD check --install=check:IsoformSwitchAnalyzeR.install-out.txt --library=/home/biocbuild/R/R/site-library --no-vignettes --timings IsoformSwitchAnalyzeR_2.7.0.tar.gz
StartedAt: 2025-01-28 11:47:28 -0000 (Tue, 28 Jan 2025)
EndedAt: 2025-01-28 12:03:39 -0000 (Tue, 28 Jan 2025)
EllapsedTime: 970.3 seconds
RetCode: 0
Status: WARNINGS
CheckDir: IsoformSwitchAnalyzeR.Rcheck
Warnings: 6