Package: IsoformSwitchAnalyzeR Version: 2.7.0 Command: /home/biocbuild/R/R/bin/R CMD build --keep-empty-dirs --no-resave-data IsoformSwitchAnalyzeR StartedAt: 2025-01-28 23:50:27 -0000 (Tue, 28 Jan 2025) EndedAt: 2025-01-28 23:55:50 -0000 (Tue, 28 Jan 2025) EllapsedTime: 323.1 seconds RetCode: 0 Status: OK PackageFile: IsoformSwitchAnalyzeR_2.7.0.tar.gz PackageFileSize: 4.81 <A href="http://en.wikipedia.org/wiki/MiB" target="_blank">MiB</A>