Package: IsoformSwitchAnalyzeR
Version: 2.7.0
Command: /Library/Frameworks/R.framework/Resources/bin/R CMD check --install=check:IsoformSwitchAnalyzeR.install-out.txt --library=/Library/Frameworks/R.framework/Resources/library --no-vignettes --timings IsoformSwitchAnalyzeR_2.7.0.tar.gz
StartedAt: 2025-02-19 19:54:43 -0500 (Wed, 19 Feb 2025)
EndedAt: 2025-02-19 19:58:42 -0500 (Wed, 19 Feb 2025)
EllapsedTime: 239.1 seconds
RetCode: 0
Status: OK
CheckDir: IsoformSwitchAnalyzeR.Rcheck
Warnings: 0