Package: IsoformSwitchAnalyzeR Version: 2.7.0 Command: rm -rf IsoformSwitchAnalyzeR.buildbin-libdir && mkdir IsoformSwitchAnalyzeR.buildbin-libdir && /Users/biocbuild/BBS/utils/build-universal.sh IsoformSwitchAnalyzeR_2.7.0.tar.gz /Library/Frameworks/R.framework/Resources/bin/R IsoformSwitchAnalyzeR.buildbin-libdir StartedAt: 2025-02-19 22:26:28 -0500 (Wed, 19 Feb 2025) EndedAt: 2025-02-19 22:26:56 -0500 (Wed, 19 Feb 2025) EllapsedTime: 27.6 seconds RetCode: 0 Status: OK PackageFile: IsoformSwitchAnalyzeR_2.7.0.tgz PackageFileSize: 7.397 <A href="http://en.wikipedia.org/wiki/MiB" target="_blank">MiB</A>