Package: ITALICS
Version: 2.67.0
Command: E:\biocbuild\bbs-3.21-bioc\R\bin\R.exe CMD check --no-multiarch --install=check:ITALICS.install-out.txt --library=E:\biocbuild\bbs-3.21-bioc\R\library --no-vignettes --timings ITALICS_2.67.0.tar.gz
StartedAt: 2025-01-22 02:21:18 -0500 (Wed, 22 Jan 2025)
EndedAt: 2025-01-22 02:24:48 -0500 (Wed, 22 Jan 2025)
EllapsedTime: 209.8 seconds
RetCode: 0
Status: OK
CheckDir: ITALICS.Rcheck
Warnings: 0