Package: ITALICS
Version: 2.67.0
Command: /Library/Frameworks/R.framework/Resources/bin/R CMD INSTALL ITALICS
StartedAt: 2025-02-19 15:13:46 -0500 (Wed, 19 Feb 2025)
EndedAt: 2025-02-19 15:13:48 -0500 (Wed, 19 Feb 2025)
EllapsedTime: 2.8 seconds
RetCode: 1
Status: ERROR