##############################################################################
##############################################################################
###
### Running command:
###
###   /Library/Frameworks/R.framework/Resources/bin/R CMD INSTALL ITALICS
###
##############################################################################
##############################################################################


* installing to library ‘/Library/Frameworks/R.framework/Versions/4.5-x86_64/Resources/library’
ERROR: dependencies ‘GLAD’, ‘oligo’, ‘pd.mapping50k.xba240’ are not available for package ‘ITALICS’
Perhaps try a variation of:
install.packages(c('GLAD', 'oligo', 'pd.mapping50k.xba240'))
* removing ‘/Library/Frameworks/R.framework/Versions/4.5-x86_64/Resources/library/ITALICS’