Package: ITALICS Version: 2.67.0 Command: /Library/Frameworks/R.framework/Resources/bin/R CMD build --keep-empty-dirs --no-resave-data ITALICS StartedAt: 2025-02-19 17:08:25 -0500 (Wed, 19 Feb 2025) EndedAt: 2025-02-19 17:08:26 -0500 (Wed, 19 Feb 2025) EllapsedTime: 1.1 seconds RetCode: 1 Status: ERROR PackageFile: None PackageFileSize: NA