Package: ISoLDE
Version: 1.35.0
Command: /Library/Frameworks/R.framework/Resources/bin/R CMD INSTALL ISoLDE
StartedAt: 2025-02-19 15:01:07 -0500 (Wed, 19 Feb 2025)
EndedAt: 2025-02-19 15:01:11 -0500 (Wed, 19 Feb 2025)
EllapsedTime: 4.1 seconds
RetCode: 0
Status: OK