Package: ISoLDE Version: 1.35.0 Command: /Library/Frameworks/R.framework/Resources/bin/R CMD check --install=check:ISoLDE.install-out.txt --library=/Library/Frameworks/R.framework/Resources/library --no-vignettes --timings ISoLDE_1.35.0.tar.gz StartedAt: 2025-02-19 19:54:45 -0500 (Wed, 19 Feb 2025) EndedAt: 2025-02-19 19:55:26 -0500 (Wed, 19 Feb 2025) EllapsedTime: 41.6 seconds RetCode: 0 Status: WARNINGS CheckDir: ISoLDE.Rcheck Warnings: 1