Package: ISoLDE Version: 1.35.0 Command: /Library/Frameworks/R.framework/Resources/bin/R CMD build --keep-empty-dirs --no-resave-data ISoLDE StartedAt: 2025-02-19 16:45:33 -0500 (Wed, 19 Feb 2025) EndedAt: 2025-02-19 16:45:34 -0500 (Wed, 19 Feb 2025) EllapsedTime: 1.0 seconds RetCode: 0 Status: OK PackageFile: ISoLDE_1.35.0.tar.gz PackageFileSize: 1.228 <A href="http://en.wikipedia.org/wiki/MiB" target="_blank">MiB</A>