Package: ISoLDE
Version: 1.35.0
Command: rm -rf ISoLDE.buildbin-libdir && mkdir ISoLDE.buildbin-libdir && /Users/biocbuild/BBS/utils/build-universal.sh ISoLDE_1.35.0.tar.gz /Library/Frameworks/R.framework/Resources/bin/R ISoLDE.buildbin-libdir
StartedAt: 2025-02-19 22:26:29 -0500 (Wed, 19 Feb 2025)
EndedAt: 2025-02-19 22:26:32 -0500 (Wed, 19 Feb 2025)
EllapsedTime: 3.1 seconds
RetCode: 0
Status: OK
PackageFile: ISoLDE_1.35.0.tgz
PackageFileSize: 1.234 <A href="http://en.wikipedia.org/wiki/MiB" target="_blank">MiB</A>