Package: ISoLDE Version: 1.35.0 Maintainer: Christelle Reynès MaintainerEmail: christelle.reynes at igf.cnrs.fr git_url: https://git.bioconductor.org/packages/ISoLDE git_branch: devel git_last_commit: e892789 git_last_commit_date: 2024-10-29 10:08:48 -0500 (Tue, 29 Oct 2024)