Package: INDEED Version: 2.21.0 Command: /Library/Frameworks/R.framework/Resources/bin/R CMD build --keep-empty-dirs --no-resave-data INDEED StartedAt: 2025-02-04 17:05:32 -0500 (Tue, 04 Feb 2025) EndedAt: 2025-02-04 17:06:06 -0500 (Tue, 04 Feb 2025) EllapsedTime: 34.2 seconds RetCode: 0 Status: OK PackageFile: INDEED_2.21.0.tar.gz PackageFileSize: 1.857 MiB