Package: HoloFoodR Version: 1.1.0 Command: /Library/Frameworks/R.framework/Resources/bin/R CMD INSTALL HoloFoodR StartedAt: 2025-02-04 15:17:54 -0500 (Tue, 04 Feb 2025) EndedAt: 2025-02-04 15:18:34 -0500 (Tue, 04 Feb 2025) EllapsedTime: 39.5 seconds RetCode: 0 Status: OK