Package: HiContacts
Version: 1.9.0
Command: /home/biocbuild/R/R/bin/R CMD INSTALL HiContacts
StartedAt: 2025-01-29 19:53:56 -0000 (Wed, 29 Jan 2025)
EndedAt: 2025-01-29 19:54:36 -0000 (Wed, 29 Jan 2025)
EllapsedTime: 39.8 seconds
RetCode: 0
Status: OK