Package: HiContacts
Version: 1.9.0
Command: /home/biocbuild/R/R/bin/R CMD build --keep-empty-dirs --no-resave-data HiContacts
StartedAt: 2025-01-28 23:35:32 -0000 (Tue, 28 Jan 2025)
EndedAt: 2025-01-28 23:39:42 -0000 (Tue, 28 Jan 2025)
EllapsedTime: 250.0 seconds
RetCode: 1
Status: ERROR
PackageFile: None
PackageFileSize: NA