Package: HiContacts Version: 1.9.0 Command: /Library/Frameworks/R.framework/Resources/bin/R CMD INSTALL HiContacts StartedAt: 2025-02-19 15:10:24 -0500 (Wed, 19 Feb 2025) EndedAt: 2025-02-19 15:10:37 -0500 (Wed, 19 Feb 2025) EllapsedTime: 12.8 seconds RetCode: 0 Status: OK