Package: HiContacts Version: 1.9.0 Command: /Library/Frameworks/R.framework/Resources/bin/R CMD check --install=check:HiContacts.install-out.txt --library=/Library/Frameworks/R.framework/Resources/library --no-vignettes --timings HiContacts_1.9.0.tar.gz StartedAt: 2025-02-19 19:43:03 -0500 (Wed, 19 Feb 2025) EndedAt: 2025-02-19 19:46:39 -0500 (Wed, 19 Feb 2025) EllapsedTime: 215.6 seconds RetCode: 0 Status: OK CheckDir: HiContacts.Rcheck Warnings: 0