Package: HiContacts Version: 1.9.0 Command: /Library/Frameworks/R.framework/Resources/bin/R CMD build --keep-empty-dirs --no-resave-data HiContacts StartedAt: 2025-02-19 16:37:58 -0500 (Wed, 19 Feb 2025) EndedAt: 2025-02-19 16:40:15 -0500 (Wed, 19 Feb 2025) EllapsedTime: 136.5 seconds RetCode: 0 Status: OK PackageFile: HiContacts_1.9.0.tar.gz PackageFileSize: 5.376 <A href="http://en.wikipedia.org/wiki/MiB" target="_blank">MiB</A>