Package: HarmonizR
Version: 1.5.0
Command: rm -rf HarmonizR.buildbin-libdir && mkdir HarmonizR.buildbin-libdir && /Users/biocbuild/BBS/utils/build-universal.sh HarmonizR_1.5.0.tar.gz /Library/Frameworks/R.framework/Resources/bin/R HarmonizR.buildbin-libdir
StartedAt: 2025-02-19 22:24:50 -0500 (Wed, 19 Feb 2025)
EndedAt: 2025-02-19 22:24:52 -0500 (Wed, 19 Feb 2025)
EllapsedTime: 2.1 seconds
RetCode: 0
Status: OK
PackageFile: HarmonizR_1.5.0.tgz
PackageFileSize: 92.71 <A href="http://en.wikipedia.org/wiki/KiB" target="_blank">KiB</A>