Package: HIPPO
Version: 1.19.0
Maintainer: Tae Kim
MaintainerEmail: tk382 at uchicago.edu
git_url: https://git.bioconductor.org/packages/HIPPO
git_branch: devel
git_last_commit: 3720af6
git_last_commit_date: 2024-10-29 10:44:57 -0500 (Tue, 29 Oct 2024)