Package: HDTD
Version: 1.41.0
Command: E:\biocbuild\bbs-3.21-bioc\R\bin\R.exe CMD INSTALL HDTD
StartedAt: 2025-02-19 15:21:40 -0500 (Wed, 19 Feb 2025)
EndedAt: 2025-02-19 15:24:05 -0500 (Wed, 19 Feb 2025)
EllapsedTime: 144.9 seconds
RetCode: 0
Status: OK