Package: HDTD Version: 1.41.0 Command: chmod a+r HDTD -R && E:\biocbuild\bbs-3.21-bioc\R\bin\R.exe CMD build --keep-empty-dirs --no-resave-data HDTD StartedAt: 2025-02-19 19:13:04 -0500 (Wed, 19 Feb 2025) EndedAt: 2025-02-19 19:13:46 -0500 (Wed, 19 Feb 2025) EllapsedTime: 41.5 seconds RetCode: 0 Status: OK PackageFile: HDTD_1.41.0.tar.gz PackageFileSize: 162.8 <A href="http://en.wikipedia.org/wiki/KiB" target="_blank">KiB</A>