Package: HDTD
Version: 1.41.0
Command: rm -rf HDTD.buildbin-libdir && mkdir HDTD.buildbin-libdir && E:\biocbuild\bbs-3.21-bioc\R\bin\R.exe CMD INSTALL --build --library=HDTD.buildbin-libdir HDTD_1.41.0.tar.gz
StartedAt: 2025-02-20 07:57:01 -0500 (Thu, 20 Feb 2025)
EndedAt: 2025-02-20 07:57:29 -0500 (Thu, 20 Feb 2025)
EllapsedTime: 27.8 seconds
RetCode: 0
Status: OK
PackageFile: HDTD_1.41.0.zip
PackageFileSize: 688.6 <A href="http://en.wikipedia.org/wiki/KiB" target="_blank">KiB</A>