Package: HDTD
Version: 1.41.0
Command: /home/biocbuild/bbs-3.21-bioc/R/bin/R CMD check --install=check:HDTD.install-out.txt --library=/home/biocbuild/bbs-3.21-bioc/R/site-library --timings HDTD_1.41.0.tar.gz
StartedAt: 2025-02-19 22:59:15 -0500 (Wed, 19 Feb 2025)
EndedAt: 2025-02-19 22:59:36 -0500 (Wed, 19 Feb 2025)
EllapsedTime: 21.0 seconds
RetCode: 0
Status: OK
CheckDir: HDTD.Rcheck
Warnings: 0