Package: HDTD
Version: 1.41.0
Command: /Library/Frameworks/R.framework/Resources/bin/R CMD INSTALL HDTD
StartedAt: 2025-02-19 15:01:51 -0500 (Wed, 19 Feb 2025)
EndedAt: 2025-02-19 15:02:03 -0500 (Wed, 19 Feb 2025)
EllapsedTime: 12.5 seconds
RetCode: 0
Status: OK