Package: HDTD
Version: 1.41.0
Command: /Library/Frameworks/R.framework/Resources/bin/R CMD check --install=check:HDTD.install-out.txt --library=/Library/Frameworks/R.framework/Resources/library --no-vignettes --timings HDTD_1.41.0.tar.gz
StartedAt: 2025-02-19 19:41:27 -0500 (Wed, 19 Feb 2025)
EndedAt: 2025-02-19 19:41:39 -0500 (Wed, 19 Feb 2025)
EllapsedTime: 12.1 seconds
RetCode: 0
Status: OK
CheckDir: HDTD.Rcheck
Warnings: 0