Package: HDTD
Version: 1.41.0
Command: rm -rf HDTD.buildbin-libdir && mkdir HDTD.buildbin-libdir && /Users/biocbuild/BBS/utils/build-universal.sh HDTD_1.41.0.tar.gz /Library/Frameworks/R.framework/Resources/bin/R HDTD.buildbin-libdir
StartedAt: 2025-02-19 22:24:51 -0500 (Wed, 19 Feb 2025)
EndedAt: 2025-02-19 22:24:58 -0500 (Wed, 19 Feb 2025)
EllapsedTime: 7.2 seconds
RetCode: 0
Status: OK
PackageFile: HDTD_1.41.0.tgz
PackageFileSize: 302.4 <A href="http://en.wikipedia.org/wiki/KiB" target="_blank">KiB</A>