Package: GreyListChIP
Version: 1.39.0
Maintainer: Matt Eldridge
MaintainerEmail: matthew.eldridge at cruk.cam.ac.uk
git_url: https://git.bioconductor.org/packages/GreyListChIP
git_branch: devel
git_last_commit: daa5333
git_last_commit_date: 2024-10-29 09:58:13 -0500 (Tue, 29 Oct 2024)