Package: GraphPAC
Version: 1.49.0
Maintainer: Gregory Ryslik
MaintainerEmail: gregory.ryslik at yale.edu
git_url: https://git.bioconductor.org/packages/GraphPAC
git_branch: devel
git_last_commit: fbd6916
git_last_commit_date: 2024-10-29 09:43:51 -0500 (Tue, 29 Oct 2024)