Package: GmicR Version: 1.21.0 Command: /Library/Frameworks/R.framework/Resources/bin/R CMD INSTALL GmicR StartedAt: 2025-02-18 15:20:54 -0500 (Tue, 18 Feb 2025) EndedAt: 2025-02-18 15:21:04 -0500 (Tue, 18 Feb 2025) EllapsedTime: 10.9 seconds RetCode: 0 Status: OK