Package: GmicR Version: 1.21.0 Command: /Library/Frameworks/R.framework/Resources/bin/R CMD check --install=check:GmicR.install-out.txt --library=/Library/Frameworks/R.framework/Resources/library --no-vignettes --timings GmicR_1.21.0.tar.gz StartedAt: 2025-02-19 19:34:55 -0500 (Wed, 19 Feb 2025) EndedAt: 2025-02-19 19:41:23 -0500 (Wed, 19 Feb 2025) EllapsedTime: 387.6 seconds RetCode: 0 Status: WARNINGS CheckDir: GmicR.Rcheck Warnings: 1