Package: GmicR
Version: 1.21.0
Command: /Library/Frameworks/R.framework/Resources/bin/R CMD build --keep-empty-dirs --no-resave-data GmicR
StartedAt: 2025-02-18 16:30:37 -0500 (Tue, 18 Feb 2025)
EndedAt: 2025-02-18 16:34:58 -0500 (Tue, 18 Feb 2025)
EllapsedTime: 261.7 seconds
RetCode: 0
Status: OK
PackageFile: GmicR_1.21.0.tar.gz
PackageFileSize: 3.493 <A href="http://en.wikipedia.org/wiki/MiB" target="_blank">MiB</A>