Package: GmicR Version: 1.21.0 Command: rm -rf GmicR.buildbin-libdir && mkdir GmicR.buildbin-libdir && /Users/biocbuild/BBS/utils/build-universal.sh GmicR_1.21.0.tar.gz /Library/Frameworks/R.framework/Resources/bin/R GmicR.buildbin-libdir StartedAt: 2025-02-19 22:24:02 -0500 (Wed, 19 Feb 2025) EndedAt: 2025-02-19 22:24:14 -0500 (Wed, 19 Feb 2025) EllapsedTime: 12.2 seconds RetCode: 0 Status: OK PackageFile: GmicR_1.21.0.tgz PackageFileSize: 3.553 <A href="http://en.wikipedia.org/wiki/MiB" target="_blank">MiB</A>