##############################################################################
##############################################################################
###
### Running command:
###
###   rm -rf GmicR.buildbin-libdir && mkdir GmicR.buildbin-libdir && /Users/biocbuild/BBS/utils/build-universal.sh GmicR_1.21.0.tar.gz /Library/Frameworks/R.framework/Resources/bin/R GmicR.buildbin-libdir
###
##############################################################################
##############################################################################


>>>>>>> 
>>>>>>> INSTALLATION WITH 'R CMD INSTALL --preclean --no-multiarch --library=GmicR.buildbin-libdir GmicR_1.21.0.tar.gz'
>>>>>>> 

* installing *source* package ‘GmicR’ ...
** this is package ‘GmicR’ version ‘1.21.0’
** using staged installation
** R
** inst
** byte-compile and prepare package for lazy loading
Warning: replacing previous import ‘ape::degree’ by ‘bnlearn::degree’ when loading ‘GmicR’
** help
*** installing help indices
** building package indices
** installing vignettes
** testing if installed package can be loaded from temporary location
Warning: replacing previous import ‘ape::degree’ by ‘bnlearn::degree’ when loading ‘GmicR’
** testing if installed package can be loaded from final location
Warning: replacing previous import ‘ape::degree’ by ‘bnlearn::degree’ when loading ‘GmicR’
** testing if installed package keeps a record of temporary installation path
* DONE (GmicR)