Package: GeoTcgaData
Version: 2.7.0
Maintainer: Erqiang Hu
MaintainerEmail: 13766876214 at 163.com
git_url: https://git.bioconductor.org/packages/GeoTcgaData
git_branch: devel
git_last_commit: 49ac154
git_last_commit_date: 2024-10-29 11:18:57 -0500 (Tue, 29 Oct 2024)