Package: GenomicFiles Version: 1.43.0 Command: E:\biocbuild\bbs-3.21-bioc\R\bin\R.exe CMD INSTALL GenomicFiles StartedAt: 2025-01-31 16:08:23 -0500 (Fri, 31 Jan 2025) EndedAt: 2025-01-31 16:09:41 -0500 (Fri, 31 Jan 2025) EllapsedTime: 78.5 seconds RetCode: 0 Status: OK